Package: GenomAutomorphism Version: 1.10.0 Command: /Library/Frameworks/R.framework/Resources/bin/R CMD INSTALL GenomAutomorphism StartedAt: 2025-10-13 16:02:13 -0400 (Mon, 13 Oct 2025) EndedAt: 2025-10-13 16:02:39 -0400 (Mon, 13 Oct 2025) EllapsedTime: 25.6 seconds RetCode: 0 Status: OK