Package: GeneticsPed Version: 1.72.0 Command: /Library/Frameworks/R.framework/Resources/bin/R CMD INSTALL GeneticsPed StartedAt: 2025-11-10 15:02:50 -0500 (Mon, 10 Nov 2025) EndedAt: 2025-11-10 15:02:59 -0500 (Mon, 10 Nov 2025) EllapsedTime: 8.7 seconds RetCode: 0 Status: OK