Package: GeneticsPed Version: 1.72.0 Command: /Library/Frameworks/R.framework/Resources/bin/R CMD build --keep-empty-dirs --no-resave-data GeneticsPed StartedAt: 2025-11-10 16:29:24 -0500 (Mon, 10 Nov 2025) EndedAt: 2025-11-10 16:29:37 -0500 (Mon, 10 Nov 2025) EllapsedTime: 13.2 seconds RetCode: 0 Status: OK PackageFile: GeneticsPed_1.72.0.tar.gz PackageFileSize: 671 KiB