Package: GeneTonic Version: 3.4.0 Command: /home/biocbuild/bbs-3.22-bioc/R/bin/R CMD INSTALL GeneTonic StartedAt: 2025-11-17 18:07:59 -0500 (Mon, 17 Nov 2025) EndedAt: 2025-11-17 18:08:57 -0500 (Mon, 17 Nov 2025) EllapsedTime: 57.5 seconds RetCode: 0 Status: OK