Package: GeneTonic Version: 3.4.0 Command: /home/biocbuild/bbs-3.22-bioc/R/bin/R CMD build --keep-empty-dirs --no-resave-data --md5 GeneTonic StartedAt: 2025-11-17 21:08:51 -0500 (Mon, 17 Nov 2025) EndedAt: 2025-11-17 21:10:48 -0500 (Mon, 17 Nov 2025) EllapsedTime: 117.1 seconds RetCode: 0 Status: OK PackageFile: GeneTonic_3.4.0.tar.gz PackageFileSize: 9.596 MiB