Package: GeneStructureTools Version: 1.30.0 Command: /home/biocbuild/R/R/bin/R CMD INSTALL GeneStructureTools StartedAt: 2025-11-10 22:04:24 -0000 (Mon, 10 Nov 2025) EndedAt: 2025-11-10 22:05:33 -0000 (Mon, 10 Nov 2025) EllapsedTime: 68.9 seconds RetCode: 0 Status: OK