Package: GeneStructureTools Version: 1.30.0 Command: /home/biocbuild/R/R/bin/R CMD check --install=check:GeneStructureTools.install-out.txt --library=/home/biocbuild/R/R/site-library --no-vignettes --timings GeneStructureTools_1.30.0.tar.gz StartedAt: 2025-11-21 11:00:03 -0000 (Fri, 21 Nov 2025) EndedAt: 2025-11-21 11:08:33 -0000 (Fri, 21 Nov 2025) EllapsedTime: 510.3 seconds RetCode: 0 Status: OK CheckDir: GeneStructureTools.Rcheck Warnings: 0