Package: GeneStructureTools Version: 1.30.0 Command: /home/biocbuild/R/R/bin/R CMD build --keep-empty-dirs --no-resave-data GeneStructureTools StartedAt: 2025-11-11 01:54:59 -0000 (Tue, 11 Nov 2025) EndedAt: 2025-11-11 01:58:41 -0000 (Tue, 11 Nov 2025) EllapsedTime: 222.1 seconds RetCode: 0 Status: OK PackageFile: GeneStructureTools_1.30.0.tar.gz PackageFileSize: 2.315 MiB