Package: GeneStructureTools Version: 1.30.0 Command: /home/biocbuild/bbs-3.22-bioc/R/bin/R CMD INSTALL GeneStructureTools StartedAt: 2025-11-11 15:58:01 -0500 (Tue, 11 Nov 2025) EndedAt: 2025-11-11 15:58:56 -0500 (Tue, 11 Nov 2025) EllapsedTime: 54.7 seconds RetCode: 0 Status: OK