Package: GeneStructureTools Version: 1.30.0 Command: /home/biocbuild/bbs-3.22-bioc/R/bin/R CMD check --install=check:GeneStructureTools.install-out.txt --library=/home/biocbuild/bbs-3.22-bioc/R/site-library --timings GeneStructureTools_1.30.0.tar.gz StartedAt: 2025-11-14 00:01:57 -0500 (Fri, 14 Nov 2025) EndedAt: 2025-11-14 00:10:25 -0500 (Fri, 14 Nov 2025) EllapsedTime: 507.4 seconds RetCode: 0 Status: OK CheckDir: GeneStructureTools.Rcheck Warnings: 0