Package: GeneStructureTools Version: 1.28.0 Command: /home/biocbuild/R/R/bin/R CMD check --install=check:GeneStructureTools.install-out.txt --library=/home/biocbuild/R/R/site-library --no-vignettes --timings GeneStructureTools_1.28.0.tar.gz StartedAt: 2025-10-14 09:26:26 -0000 (Tue, 14 Oct 2025) EndedAt: 2025-10-14 09:35:32 -0000 (Tue, 14 Oct 2025) EllapsedTime: 545.3 seconds RetCode: 0 Status: OK CheckDir: GeneStructureTools.Rcheck Warnings: 0