Package: GeneSelectMMD Version: 2.54.0 Command: /home/biocbuild/bbs-3.22-bioc/R/bin/R CMD INSTALL GeneSelectMMD StartedAt: 2025-11-11 15:16:44 -0500 (Tue, 11 Nov 2025) EndedAt: 2025-11-11 15:16:51 -0500 (Tue, 11 Nov 2025) EllapsedTime: 7.7 seconds RetCode: 0 Status: OK