Package: GeneSelectMMD Version: 2.54.0 Command: /home/biocbuild/bbs-3.22-bioc/R/bin/R CMD build --keep-empty-dirs --no-resave-data --md5 GeneSelectMMD StartedAt: 2025-11-11 17:51:23 -0500 (Tue, 11 Nov 2025) EndedAt: 2025-11-11 17:51:36 -0500 (Tue, 11 Nov 2025) EllapsedTime: 13.0 seconds RetCode: 0 Status: OK PackageFile: GeneSelectMMD_2.54.0.tar.gz PackageFileSize: 456.3 KiB