Package: GeneSelectMMD Version: 2.54.0 Command: /Library/Frameworks/R.framework/Resources/bin/R CMD INSTALL GeneSelectMMD StartedAt: 2025-11-03 15:18:57 -0500 (Mon, 03 Nov 2025) EndedAt: 2025-11-03 15:19:11 -0500 (Mon, 03 Nov 2025) EllapsedTime: 14.0 seconds RetCode: 0 Status: OK