Package: GeneSelectMMD Version: 2.54.0 Command: /Library/Frameworks/R.framework/Resources/bin/R CMD build --keep-empty-dirs --no-resave-data GeneSelectMMD StartedAt: 2025-11-03 17:07:47 -0500 (Mon, 03 Nov 2025) EndedAt: 2025-11-03 17:08:09 -0500 (Mon, 03 Nov 2025) EllapsedTime: 22.9 seconds RetCode: 0 Status: OK PackageFile: GeneSelectMMD_2.54.0.tar.gz PackageFileSize: 454.5 KiB