Package: GeneSelectMMD Version: 2.54.0 Command: rm -rf GeneSelectMMD.buildbin-libdir && mkdir GeneSelectMMD.buildbin-libdir && /Users/biocbuild/BBS/utils/build-universal.sh GeneSelectMMD_2.54.0.tar.gz /Library/Frameworks/R.framework/Resources/bin/R GeneSelectMMD.buildbin-libdir StartedAt: 2025-11-04 01:41:43 -0500 (Tue, 04 Nov 2025) EndedAt: 2025-11-04 01:42:05 -0500 (Tue, 04 Nov 2025) EllapsedTime: 21.8 seconds RetCode: 0 Status: OK PackageFile: GeneSelectMMD_2.54.0.tgz PackageFileSize: 551.9 KiB