Package: GeneRegionScan Version: 1.66.0 Command: /home/biocbuild/bbs-3.22-bioc/R/bin/R CMD build --keep-empty-dirs --no-resave-data --md5 GeneRegionScan StartedAt: 2025-11-11 17:51:18 -0500 (Tue, 11 Nov 2025) EndedAt: 2025-11-11 17:51:52 -0500 (Tue, 11 Nov 2025) EllapsedTime: 34.0 seconds RetCode: 0 Status: OK PackageFile: GeneRegionScan_1.66.0.tar.gz PackageFileSize: 7.485 MiB