Package: GeneRegionScan Version: 1.66.0 Command: /Library/Frameworks/R.framework/Resources/bin/R CMD build --keep-empty-dirs --no-resave-data GeneRegionScan StartedAt: 2025-11-03 17:07:45 -0500 (Mon, 03 Nov 2025) EndedAt: 2025-11-03 17:08:31 -0500 (Mon, 03 Nov 2025) EllapsedTime: 45.8 seconds RetCode: 0 Status: OK PackageFile: GeneRegionScan_1.66.0.tar.gz PackageFileSize: 7.481 MiB