Package: GeneRegionScan Version: 1.66.0 Command: rm -rf GeneRegionScan.buildbin-libdir && mkdir GeneRegionScan.buildbin-libdir && /Users/biocbuild/BBS/utils/build-universal.sh GeneRegionScan_1.66.0.tar.gz /Library/Frameworks/R.framework/Resources/bin/R GeneRegionScan.buildbin-libdir StartedAt: 2025-11-04 01:41:41 -0500 (Tue, 04 Nov 2025) EndedAt: 2025-11-04 01:42:08 -0500 (Tue, 04 Nov 2025) EllapsedTime: 26.4 seconds RetCode: 0 Status: OK PackageFile: GeneRegionScan_1.66.0.tgz PackageFileSize: 7.682 MiB