Package: GeneRegionScan Version: 1.64.0 Command: /home/biocbuild/R/R/bin/R CMD INSTALL GeneRegionScan StartedAt: 2025-10-13 20:29:28 -0000 (Mon, 13 Oct 2025) EndedAt: 2025-10-13 20:29:47 -0000 (Mon, 13 Oct 2025) EllapsedTime: 18.9 seconds RetCode: 0 Status: OK