Package: GeneRegionScan Version: 1.64.0 Command: /home/biocbuild/R/R/bin/R CMD build --keep-empty-dirs --no-resave-data GeneRegionScan StartedAt: 2025-10-14 01:04:01 -0000 (Tue, 14 Oct 2025) EndedAt: 2025-10-14 01:04:50 -0000 (Tue, 14 Oct 2025) EllapsedTime: 49.0 seconds RetCode: 0 Status: OK PackageFile: GeneRegionScan_1.64.0.tar.gz PackageFileSize: 7.477 MiB