Package: GeneRegionScan Version: 1.64.0 Command: /Library/Frameworks/R.framework/Resources/bin/R CMD build --keep-empty-dirs --no-resave-data GeneRegionScan StartedAt: 2025-04-21 16:25:18 -0400 (Mon, 21 Apr 2025) EndedAt: 2025-04-21 16:25:34 -0400 (Mon, 21 Apr 2025) EllapsedTime: 16.2 seconds RetCode: 0 Status: OK PackageFile: GeneRegionScan_1.64.0.tar.gz PackageFileSize: 7.482 MiB