Package: GeneOverlap Version: 1.46.0 Command: /Library/Frameworks/R.framework/Resources/bin/R CMD build --keep-empty-dirs --no-resave-data GeneOverlap StartedAt: 2025-11-10 16:29:05 -0500 (Mon, 10 Nov 2025) EndedAt: 2025-11-10 16:29:11 -0500 (Mon, 10 Nov 2025) EllapsedTime: 6.1 seconds RetCode: 0 Status: OK PackageFile: GeneOverlap_1.46.0.tar.gz PackageFileSize: 360.6 KiB