Package: GeneOverlap Version: 1.46.0 Command: rm -rf GeneOverlap.buildbin-libdir && mkdir GeneOverlap.buildbin-libdir && /Users/biocbuild/BBS/utils/build-universal.sh GeneOverlap_1.46.0.tar.gz /Library/Frameworks/R.framework/Resources/bin/R GeneOverlap.buildbin-libdir StartedAt: 2025-11-10 23:21:12 -0500 (Mon, 10 Nov 2025) EndedAt: 2025-11-10 23:21:15 -0500 (Mon, 10 Nov 2025) EllapsedTime: 2.0 seconds RetCode: 0 Status: OK PackageFile: GeneOverlap_1.46.0.tgz PackageFileSize: 539.5 KiB