Package: GeneNetworkBuilder Version: 1.52.0 Command: /home/biocbuild/bbs-3.22-bioc/R/bin/R CMD build --keep-empty-dirs --no-resave-data --md5 GeneNetworkBuilder StartedAt: 2025-11-11 17:50:37 -0500 (Tue, 11 Nov 2025) EndedAt: 2025-11-11 17:59:44 -0500 (Tue, 11 Nov 2025) EllapsedTime: 547.5 seconds RetCode: 0 Status: OK PackageFile: GeneNetworkBuilder_1.52.0.tar.gz PackageFileSize: 7.379 MiB