Package: GeneNetworkBuilder Version: 1.50.0 Command: /home/biocbuild/R/R/bin/R CMD INSTALL GeneNetworkBuilder StartedAt: 2025-10-13 20:26:45 -0000 (Mon, 13 Oct 2025) EndedAt: 2025-10-13 20:27:10 -0000 (Mon, 13 Oct 2025) EllapsedTime: 24.6 seconds RetCode: 0 Status: OK