Package: GeneNetworkBuilder Version: 1.50.0 Command: /home/biocbuild/R/R/bin/R CMD build --keep-empty-dirs --no-resave-data GeneNetworkBuilder StartedAt: 2025-10-14 01:03:11 -0000 (Tue, 14 Oct 2025) EndedAt: 2025-10-14 01:26:38 -0000 (Tue, 14 Oct 2025) EllapsedTime: 1407.4 seconds RetCode: 0 Status: OK PackageFile: GeneNetworkBuilder_1.50.0.tar.gz PackageFileSize: 7.774 MiB