Package: GeneNetworkBuilder Version: 1.52.0 Command: /Library/Frameworks/R.framework/Resources/bin/R CMD INSTALL GeneNetworkBuilder StartedAt: 2025-10-31 15:12:08 -0400 (Fri, 31 Oct 2025) EndedAt: 2025-10-31 15:12:14 -0400 (Fri, 31 Oct 2025) EllapsedTime: 6.7 seconds RetCode: 0 Status: OK