Package: GeneNetworkBuilder Version: 1.52.0 Command: /Library/Frameworks/R.framework/Resources/bin/R CMD build --keep-empty-dirs --no-resave-data GeneNetworkBuilder StartedAt: 2025-11-03 16:28:54 -0500 (Mon, 03 Nov 2025) EndedAt: 2025-11-03 16:32:28 -0500 (Mon, 03 Nov 2025) EllapsedTime: 214.3 seconds RetCode: 0 Status: OK PackageFile: GeneNetworkBuilder_1.52.0.tar.gz PackageFileSize: 7.391 MiB