Package: GeneNetworkBuilder Version: 1.52.0 Command: rm -rf GeneNetworkBuilder.buildbin-libdir && mkdir GeneNetworkBuilder.buildbin-libdir && /Users/biocbuild/BBS/utils/build-universal.sh GeneNetworkBuilder_1.52.0.tar.gz /Library/Frameworks/R.framework/Resources/bin/R GeneNetworkBuilder.buildbin-libdir StartedAt: 2025-11-02 23:05:59 -0500 (Sun, 02 Nov 2025) EndedAt: 2025-11-02 23:06:07 -0500 (Sun, 02 Nov 2025) EllapsedTime: 8.1 seconds RetCode: 0 Status: OK PackageFile: GeneNetworkBuilder_1.52.0.tgz PackageFileSize: 7.274 MiB