Package: GeneMeta Version: 1.82.0 Command: /home/biocbuild/bbs-3.22-bioc/R/bin/R CMD INSTALL GeneMeta StartedAt: 2025-11-13 15:30:03 -0500 (Thu, 13 Nov 2025) EndedAt: 2025-11-13 15:30:22 -0500 (Thu, 13 Nov 2025) EllapsedTime: 19.3 seconds RetCode: 0 Status: OK