Package: GeneGA Version: 1.60.0 Command: /home/biocbuild/bbs-3.22-bioc/R/bin/R CMD INSTALL GeneGA StartedAt: 2025-11-14 15:07:34 -0500 (Fri, 14 Nov 2025) EndedAt: 2025-11-14 15:08:08 -0500 (Fri, 14 Nov 2025) EllapsedTime: 34.3 seconds RetCode: 0 Status: OK