Package: GeneGA Version: 1.60.0 Command: /home/biocbuild/bbs-3.22-bioc/R/bin/R CMD build --keep-empty-dirs --no-resave-data --md5 GeneGA StartedAt: 2025-11-14 17:49:35 -0500 (Fri, 14 Nov 2025) EndedAt: 2025-11-14 17:50:42 -0500 (Fri, 14 Nov 2025) EllapsedTime: 67.0 seconds RetCode: 0 Status: OK PackageFile: GeneGA_1.60.0.tar.gz PackageFileSize: 229.2 KiB