Package: GeneGA Version: 1.60.0 Command: /Library/Frameworks/R.framework/Resources/bin/R CMD INSTALL GeneGA StartedAt: 2025-11-10 15:03:39 -0500 (Mon, 10 Nov 2025) EndedAt: 2025-11-10 15:03:58 -0500 (Mon, 10 Nov 2025) EllapsedTime: 18.2 seconds RetCode: 0 Status: OK