Package: GeneExpressionSignature Version: 1.54.0 Command: /home/biocbuild/bbs-3.21-bioc/R/bin/R CMD INSTALL GeneExpressionSignature StartedAt: 2025-10-01 15:15:38 -0400 (Wed, 01 Oct 2025) EndedAt: 2025-10-01 15:15:42 -0400 (Wed, 01 Oct 2025) EllapsedTime: 3.5 seconds RetCode: 0 Status: OK