Package: GeneExpressionSignature Version: 1.54.0 Command: /home/biocbuild/bbs-3.21-bioc/R/bin/R CMD build --keep-empty-dirs --no-resave-data GeneExpressionSignature StartedAt: 2025-10-01 17:41:48 -0400 (Wed, 01 Oct 2025) EndedAt: 2025-10-01 17:42:13 -0400 (Wed, 01 Oct 2025) EllapsedTime: 25.0 seconds RetCode: 0 Status: OK PackageFile: GeneExpressionSignature_1.54.0.tar.gz PackageFileSize: 2.545 MiB