Package: GeneExpressionSignature Version: 1.54.0 Command: /Library/Frameworks/R.framework/Resources/bin/R CMD INSTALL GeneExpressionSignature StartedAt: 2025-10-13 15:23:43 -0400 (Mon, 13 Oct 2025) EndedAt: 2025-10-13 15:24:02 -0400 (Mon, 13 Oct 2025) EllapsedTime: 18.2 seconds RetCode: 0 Status: OK