Package: GeneExpressionSignature Version: 1.54.0 Command: /Library/Frameworks/R.framework/Resources/bin/R CMD build --keep-empty-dirs --no-resave-data GeneExpressionSignature StartedAt: 2025-10-13 19:14:13 -0400 (Mon, 13 Oct 2025) EndedAt: 2025-10-13 19:15:06 -0400 (Mon, 13 Oct 2025) EllapsedTime: 53.3 seconds RetCode: 0 Status: OK PackageFile: GeneExpressionSignature_1.54.0.tar.gz PackageFileSize: 2.545 MiB