Package: GeneExpressionSignature Version: 1.54.0 Command: rm -rf GeneExpressionSignature.buildbin-libdir && mkdir GeneExpressionSignature.buildbin-libdir && /Users/biocbuild/BBS/utils/build-universal.sh GeneExpressionSignature_1.54.0.tar.gz /Library/Frameworks/R.framework/Resources/bin/R GeneExpressionSignature.buildbin-libdir StartedAt: 2025-10-14 13:31:49 -0400 (Tue, 14 Oct 2025) EndedAt: 2025-10-14 13:32:02 -0400 (Tue, 14 Oct 2025) EllapsedTime: 14.0 seconds RetCode: 0 Status: OK PackageFile: GeneExpressionSignature_1.54.0.tgz PackageFileSize: 2.526 MiB