Package: GeneExpressionSignature Version: 1.54.0 Command: /Library/Frameworks/R.framework/Resources/bin/R CMD build --keep-empty-dirs --no-resave-data GeneExpressionSignature StartedAt: 2025-10-03 00:51:22 -0400 (Fri, 03 Oct 2025) EndedAt: 2025-10-03 00:51:53 -0400 (Fri, 03 Oct 2025) EllapsedTime: 31.4 seconds RetCode: 0 Status: OK PackageFile: GeneExpressionSignature_1.54.0.tar.gz PackageFileSize: 2.545 MiB