Package: GenVisR Version: 1.42.0 Command: /home/biocbuild/R/R/bin/R CMD INSTALL GenVisR StartedAt: 2025-11-20 22:31:57 -0000 (Thu, 20 Nov 2025) EndedAt: 2025-11-20 22:33:06 -0000 (Thu, 20 Nov 2025) EllapsedTime: 68.7 seconds RetCode: 0 Status: OK