Package: GenVisR Version: 1.42.0 Command: /home/biocbuild/R/R/bin/R CMD build --keep-empty-dirs --no-resave-data GenVisR StartedAt: 2025-11-21 02:42:23 -0000 (Fri, 21 Nov 2025) EndedAt: 2025-11-21 02:45:59 -0000 (Fri, 21 Nov 2025) EllapsedTime: 216.2 seconds RetCode: 0 Status: OK PackageFile: GenVisR_1.42.0.tar.gz PackageFileSize: 3.532 MiB