Package: GenVisR Version: 1.42.0 Command: /home/biocbuild/bbs-3.22-bioc/R/bin/R CMD INSTALL GenVisR StartedAt: 2025-11-11 15:45:13 -0500 (Tue, 11 Nov 2025) EndedAt: 2025-11-11 15:46:05 -0500 (Tue, 11 Nov 2025) EllapsedTime: 51.8 seconds RetCode: 0 Status: OK