Package: GenVisR Version: 1.42.0 Command: /home/biocbuild/bbs-3.22-bioc/R/bin/R CMD check --install=check:GenVisR.install-out.txt --library=/home/biocbuild/bbs-3.22-bioc/R/site-library --timings GenVisR_1.42.0.tar.gz StartedAt: 2025-11-14 00:08:54 -0500 (Fri, 14 Nov 2025) EndedAt: 2025-11-14 00:19:16 -0500 (Fri, 14 Nov 2025) EllapsedTime: 621.9 seconds RetCode: 1 Status: ERROR CheckDir: GenVisR.Rcheck Warnings: NA