Package: GenVisR Version: 1.42.0 Command: /home/biocbuild/bbs-3.22-bioc/R/bin/R CMD build --keep-empty-dirs --no-resave-data --md5 GenVisR StartedAt: 2025-11-11 17:54:00 -0500 (Tue, 11 Nov 2025) EndedAt: 2025-11-11 17:56:37 -0500 (Tue, 11 Nov 2025) EllapsedTime: 157.1 seconds RetCode: 0 Status: OK PackageFile: GenVisR_1.42.0.tar.gz PackageFileSize: 4.937 MiB