Package: GenVisR Version: 1.40.0 Command: /home/biocbuild/bbs-3.21-bioc/R/bin/R CMD build --keep-empty-dirs --no-resave-data GenVisR StartedAt: 2025-10-15 17:41:37 -0400 (Wed, 15 Oct 2025) EndedAt: 2025-10-15 17:44:14 -0400 (Wed, 15 Oct 2025) EllapsedTime: 156.2 seconds RetCode: 0 Status: OK PackageFile: GenVisR_1.40.0.tar.gz PackageFileSize: 4.64 MiB