Package: GenVisR Version: 1.42.0 Command: /Library/Frameworks/R.framework/Resources/bin/R CMD INSTALL GenVisR StartedAt: 2025-10-31 15:44:42 -0400 (Fri, 31 Oct 2025) EndedAt: 2025-10-31 15:45:52 -0400 (Fri, 31 Oct 2025) EllapsedTime: 69.4 seconds RetCode: 0 Status: OK