Package: GenVisR Version: 1.42.0 Command: /Library/Frameworks/R.framework/Resources/bin/R CMD build --keep-empty-dirs --no-resave-data GenVisR StartedAt: 2025-10-30 17:03:46 -0400 (Thu, 30 Oct 2025) EndedAt: 2025-10-30 17:06:47 -0400 (Thu, 30 Oct 2025) EllapsedTime: 180.9 seconds RetCode: 0 Status: OK PackageFile: GenVisR_1.42.0.tar.gz PackageFileSize: 4.719 MiB