Package: GenVisR Version: 1.42.0 Command: rm -rf GenVisR.buildbin-libdir && mkdir GenVisR.buildbin-libdir && /Users/biocbuild/BBS/utils/build-universal.sh GenVisR_1.42.0.tar.gz /Library/Frameworks/R.framework/Resources/bin/R GenVisR.buildbin-libdir StartedAt: 2025-10-31 01:26:38 -0400 (Fri, 31 Oct 2025) EndedAt: 2025-10-31 01:27:51 -0400 (Fri, 31 Oct 2025) EllapsedTime: 73.5 seconds RetCode: 0 Status: OK PackageFile: GenVisR_1.42.0.tgz PackageFileSize: 3.885 MiB