Package: GenVisR Version: 1.40.0 Command: /home/biocbuild/R/R/bin/R CMD build --keep-empty-dirs --no-resave-data GenVisR StartedAt: 2025-10-03 01:11:38 -0000 (Fri, 03 Oct 2025) EndedAt: 2025-10-03 01:14:52 -0000 (Fri, 03 Oct 2025) EllapsedTime: 194.0 seconds RetCode: 0 Status: OK PackageFile: GenVisR_1.40.0.tar.gz PackageFileSize: 4.579 MiB